{"text_format":"1","workbook":"xlsx","n_sheets":4,"sheets":["Wallthickness","Werkstoffdatenbank","Formatvorlage_fuer Makro","Rechnung"],"not_rendered":{"charts":0,"images":0,"macros":1,"external_links":2,"defined_names":0,"comments":0,"pivot_tables":0},"unopened":[],"bounds":{"document_bytes":16777216,"sheet_cells":100000,"rows_first":2000,"rows_last":500,"rows_between":2000,"halvings":0,"cell_chars":16384,"cell_head_chars":4096},"cells_cut":0,"cells_raw":0,"read":"whole","date_system":"1900"}

{"sheet":"Wallthickness","index":0,"n_rows":44,"n_cols":26,"rows_kept":44,"cut":false,"hidden":false,"merged":[[4,1,33,1],[36,2,37,2],[4,2,11,2],[12,2,19,2],[34,1,35,1],[20,2,33,2],[36,1,44,1],[38,2,44,2]]}
[]
[]
[]
[]
[{"$f":"MAX(A6:A998)","v":null},"Di","MatNr.","ST","Su",{"$f":"MAX(G5:AC5)","v":null},1,2,3,4,5,6,7,8,9,10,11,12,13,14,15,16,17,18,19,20]
[2,null,"MatNr.","MatNr.","Su","ActuatorT","Su","Su","ActuatorT","ActuatorT","Di","Di","Ultimate strength @ TT","Ultimate strength @ TT","Di","Di","Di","Di","Ultimate strength @ TT","Ultimate strength @ TT","sminD","sminD","Su","Su","Su","Su"]
[{"$f":"IF(ISTEXT(D7),A6+1,\"Platzhalter\")","v":null},null,null,"Su","OKNOKTube","ActuatorT","Su","Su","Su","Su","Su","Su","Di","Di","Su","Su","Di","Di","Di","Di","Di","Di","Di","Di","Di","Di"]
[{"$f":"IF(ISTEXT(D8),A7+1,\"Platzhalter\")","v":null},null,null,"ActuatorT","ActuatorT","ActuatorT",10,10,16,16,24,24,45,45,58,58,70,70,90,90,120,120,160,160,240,240]
[{"$f":"IF(ISTEXT(D9),A8+1,\"Platzhalter\")","v":null},null,null,"Di","sminD","ActuatorT"]
[{"$f":"IF(ISTEXT(D10),A9+1,\"Platzhalter\")","v":null},null,null,"ActuatorT","sminD","ActuatorT"]
[{"$f":"IF(ISTEXT(D11),A10+1,\"Platzhalter\")","v":null},null,null,"Su","MatNr.","ActuatorT"]
[{"$f":"IF(ISTEXT(D12),A11+1,\"Platzhalter\")","v":null},null,null,"ActuatorT","Su","MatNr.",45,45,45,45,45,45,50,50,45,45,50,50,50,50,50,50,50,50,50,50]
[{"$f":"IF(ISTEXT(D13),A12+1,\"Platzhalter\")","v":null},null,"Su","Di","Di","Ultimate strength @ TT","300","300","300","300","300","300","300","300","300","300","300","300","300","300","300","300","300","300","300","300"]
[{"$f":"IF(ISTEXT(D14),A13+1,\"Platzhalter\")","v":null},null,null,"sminD","Safety Factor @ TT\n(acc. AD2000 B0 Table 2)","MatNr.",81.5,81.5,81.5,81.5,81.5,81.5,77.7,77.7,81.5,81.5,77.7,77.7,77.7,77.7,77.7,77.7,77.7,77.7,77.7,77.7]
[{"$f":"IF(ISTEXT(D15),A14+1,\"Platzhalter\")","v":null},null,null,"Su","MatNr.","Ultimate strength @ TT",20,20,20,20,20,20,20,20,20,20,20,20,20,20,20,20,20,20,20,20]
[{"$f":"IF(ISTEXT(D16),A15+1,\"Platzhalter\")","v":null},null,null,"TD","sminD","ActuatorT"]
[{"$f":"IF(ISTEXT(D17),A16+1,\"Platzhalter\")","v":null},null,"TD","TD","MatNr.","ActuatorT"]
[{"$f":"IF(ISTEXT(D18),A17+1,\"Platzhalter\")","v":null},null,null,"TD","TD","ActuatorT"]
[{"$f":"IF(ISTEXT(D19),A18+1,\"Platzhalter\")","v":null},null,null,"TD","Su","Ultimate strength @ TT",20.409,25,30.066,35,38.727,42.4,64.319,70,76.934,82.5,101.319,106.5,130.093,139.5,170.495,181.8,234.495,244.5,331.84,350]
[{"$f":"IF(ISTEXT(D20),A19+1,\"Platzhalter\")","v":null},null,null,"Di","sminD","Ultimate strength @ TT",12.72,11.7,19.66,18.7,27.06,26.1,47.78,46.7,57.28,56,74.34,73.1,95.27,93.5,127.4,125.2,171.3,166.5,240,255]
[{"$f":"IF(ISTEXT(D21),A20+1,\"Platzhalter\")","v":null},null,"sminD","Di","MatNr.","Di",0,0,0,0,0,0,0,0,0,0,0,0,0,0,0,0,0,0,0,0]
[{"$f":"IF(ISTEXT(D22),A21+1,\"Platzhalter\")","v":null},null,null,"MatNr.","MatNr.","Ultimate strength @ TT",0,0,0,0,0,0,0,0,0,0,0,0,0,0,0,0,0,0,0,0]
[{"$f":"IF(ISTEXT(D23),A22+1,\"Platzhalter\")","v":null},null,null,"MatNr.","MatNr.","ActuatorT",1,1,1,1,1,1,1,1,1,1,1,1,1,1,1,1,1,1,1,1]
[{"$f":"IF(ISTEXT(D24),A23+1,\"Platzhalter\")","v":null},null,null,"TD","TD","Ultimate strength @ TT",0,0,0,0,0,0,0,0,0,0,0,0,0,0,0,0,0,0,0,0]
[{"$f":"IF(ISTEXT(D25),A24+1,\"Platzhalter\")","v":null},null,null,"TD","smin","Ultimate strength @ TT",0,0,0,0,0,0,0,0,0,0,0,0,0,0,0,0,0,0,0,0]
[{"$f":"IF(ISTEXT(D26),A25+1,\"Platzhalter\")","v":null},null,null,"Di","ActuatorT","OKNOKTube",0]
[{"$f":"IF(ISTEXT(D27),A26+1,\"Platzhalter\")","v":null},null,null,"Di","Su","MatNr.",245,245,245,245,245,245,440,440,245,245,440,440,440,440,420,420,420,420,420,420]
[{"$f":"IF(ISTEXT(D28),A27+1,\"Platzhalter\")","v":null},null,null,"Inner Diameter","Ultimate strength @ TT","MatNr.",175,175,175,175,175,175,363,363,175,175,363,363,363,363,344,344,344,344,344,344]
[{"$f":"IF(ISTEXT(D29),A28+1,\"Platzhalter\")","v":null},null,null,"MatNr.","sminD","MatNr.",500,500,500,500,500,500,600,600,500,500,600,600,600,600,600,600,600,600,600,600]
[{"$f":"IF(ISTEXT(D30),A29+1,\"Platzhalter\")","v":null},null,null,"MatNr.","Su","MatNr.",620]
[{"$f":"IF(ISTEXT(D31),A30+1,\"Platzhalter\")","v":null},null,null,"Ultimate strength @ TT","Ultimate strength @ TT","ActuatorT","Di"]
[{"$f":"IF(ISTEXT(D32),A31+1,\"Platzhalter\")","v":null},null,null,"MatNr.","TD","ActuatorT"]
[{"$f":"IF(ISTEXT(D33),A32+1,\"Platzhalter\")","v":null},null,"Di","Su","TD","ActuatorT",1.05,1.1,1.1,1.1,1.1,1.1,1.1,1.1,1.1,1.1,1.1,1.1,1.1,1.1,1.1,1.1,1.1,1.1,1.1,1.1]
[{"$f":"IF(ISTEXT(D34),A33+1,\"Platzhalter\")","v":null},null,null,"ST","TD","ActuatorT",1.5,1.5,1.5,1.5,1.5,1.5,1.5,1.5,1.5,1.5,1.5,1.5,1.5,1.5,1.5,1.5,1.5,1.5,1.5,1.5]
[{"$f":"IF(ISTEXT(D35),A34+1,\"Platzhalter\")","v":null},"Su","sminD","Su","Su","ActuatorT","sminD"]
[{"$f":"IF(ISTEXT(D36),A35+1,\"Platzhalter\")","v":null},null,"Su","sminD","Su","Ultimate strength @ TT",10]
[{"$f":"IF(ISTEXT(D37),A36+1,\"Platzhalter\")","v":null},"Ultimate strength @ TT","sminD","sminD","Di","ActuatorT",81.5,81.5,81.5,81.5,81.5,81.5,77.7,77.7,81.5,81.5,77.7,77.7,77.7,77.7,77.7,77.7,77.7,77.7,77.7,77.7]
[{"$f":"IF(ISTEXT(D38),A37+1,\"Platzhalter\")","v":null},null,null,"Su","smin","ActuatorT",20,20,20,20,20,20,20,20,20,20,20,20,20,20,20,20,20,20,20,20]
[{"$f":"IF(ISTEXT(D39),A38+1,\"Platzhalter\")","v":null},null,"[°C]","sminD","300","MatNr.","300","Di","Di","Di","Di","Di","Di","Di","Di","Di","Di","Di","Di","Di","Di","Di","Di","Di","Di","Di"]
[{"$f":"IF(ISTEXT(D40),A39+1,\"Platzhalter\")","v":null},null,null,"Safety Factor @ TT\n(acc. AD2000 B0 Table 2)","Su","Ultimate strength @ TT",3.8445,6.65,5.203,8.15,5.8335,8.15,8.2695,11.65,9.827,13.25,13.4895,16.7,17.4115,23,21.5475,28.3,31.5975,39,45.92,47.5]
[{"$f":"IF(ISTEXT(D41),A40+1,\"Platzhalter\")","v":null},null,null,"sminD","Di","Ultimate strength @ TT",3.29965868263473,4.04191616766467,4.86097005988024,5.65868263473054,6.26125149700599,6.85508982035928,6.02237827715356,6.55430711610487,12.4384311377245,13.3383233532934,9.48679775280899,9.97191011235955,12.1809925093633,13.061797752809,16.7590104849279,17.870249017038,24.5561644791958,25.6038815973192,34.7500698129014,36.6517732476962]
[{"$f":"IF(ISTEXT(D42),A41+1,\"Platzhalter\")","v":null},null,null,"Su","ActuatorT","Ultimate strength @ TT",3.03435725144421,3.8665574053308,4.65007659794704,5.41318036746313,5.98960674544984,6.55768135944104,5.69395727469523,6.19687820439786,11.8987890968688,12.7596394375917,8.96945003987695,9.42810755383388,11.5167210892104,12.34949299305,15.7457374631268,16.7897889720899,22.7616181731457,23.7327689005485,32.210560457906,33.9732888146912]
[{"$f":"IF(ISTEXT(D43),A42+1,\"Platzhalter\")","v":null},null,null,"sminD","ST","Ultimate strength @ TT",3.29965868263473,4.04191616766467,4.86097005988024,5.65868263473054,6.26125149700599,6.85508982035928,6.02237827715356,6.55430711610487,12.4384311377245,13.3383233532934,9.48679775280899,9.97191011235955,12.1809925093633,13.061797752809,16.7590104849279,17.870249017038,24.5561644791958,25.6038815973192,34.7500698129014,36.6517732476962]
[{"$f":"IF(ISTEXT(D44),A43+1,\"Platzhalter\")","v":""}]

{"sheet":"Werkstoffdatenbank","index":1,"n_rows":40,"n_cols":9,"rows_kept":40,"cut":false,"hidden":false,"merged":[[0,0,0,2],[0,4,0,8]]}
["Helping values for interpolation",null,null,null,"sminD"]
[]
[{"$f":"[1]Zentrale!$A$1","v":""},{"$f":"[1]Zentrale!$B$1","v":""},{"$f":"[1]Zentrale!$C$1","v":""},null,{"$f":"[2]Tabelle1!A1","v":""},{"$f":"[2]Tabelle1!B1","v":""},{"$f":"[2]Tabelle1!C1","v":""},{"$f":"[2]Tabelle1!D1","v":""},{"$f":"[2]Tabelle1!E1","v":""}]
[{"$f":"IF([1]Zentrale!A2=0,\"\",[1]Zentrale!A2)","v":""},{"$f":"IF([1]Zentrale!B2=0,\"\",[1]Zentrale!B2)","v":""},{"$f":"IF([1]Zentrale!C2=0,\"\",[1]Zentrale!C2)","v":""},null,{"$f":"[2]Tabelle1!A2","v":""},{"$f":"[2]Tabelle1!B2","v":""},{"$f":"[2]Tabelle1!C2","v":""},{"$f":"[2]Tabelle1!D2","v":""},{"$f":"[2]Tabelle1!E2","v":""}]
[{"$f":"IF([1]Zentrale!A3=0,\"\",[1]Zentrale!A3)","v":""},{"$f":"IF([1]Zentrale!B3=0,\"\",[1]Zentrale!B3)","v":""},{"$f":"IF([1]Zentrale!C3=0,\"\",[1]Zentrale!C3)","v":""},null,{"$f":"[2]Tabelle1!A3","v":""},{"$f":"[2]Tabelle1!B3","v":""},{"$f":"[2]Tabelle1!C3","v":""},{"$f":"[2]Tabelle1!D3","v":""},{"$f":"[2]Tabelle1!E3","v":""}]
[{"$f":"IF([1]Zentrale!A4=0,\"\",[1]Zentrale!A4)","v":""},{"$f":"IF([1]Zentrale!B4=0,\"\",[1]Zentrale!B4)","v":""},{"$f":"IF([1]Zentrale!C4=0,\"\",[1]Zentrale!C4)","v":""},null,{"$f":"[2]Tabelle1!A4","v":""},{"$f":"[2]Tabelle1!B4","v":""},{"$f":"[2]Tabelle1!C4","v":""},{"$f":"[2]Tabelle1!D4","v":""},{"$f":"[2]Tabelle1!E4","v":""}]
[{"$f":"IF([1]Zentrale!A5=0,\"\",[1]Zentrale!A5)","v":""},{"$f":"IF([1]Zentrale!B5=0,\"\",[1]Zentrale!B5)","v":""},{"$f":"IF([1]Zentrale!C5=0,\"\",[1]Zentrale!C5)","v":""},null,{"$f":"[2]Tabelle1!A5","v":""},{"$f":"[2]Tabelle1!B5","v":""},{"$f":"[2]Tabelle1!C5","v":""},{"$f":"[2]Tabelle1!D5","v":""},{"$f":"[2]Tabelle1!E5","v":""}]
[{"$f":"IF([1]Zentrale!A6=0,\"\",[1]Zentrale!A6)","v":""},{"$f":"IF([1]Zentrale!B6=0,\"\",[1]Zentrale!B6)","v":""},{"$f":"IF([1]Zentrale!C6=0,\"\",[1]Zentrale!C6)","v":""},null,{"$f":"[2]Tabelle1!A6","v":""},{"$f":"[2]Tabelle1!B6","v":""},{"$f":"[2]Tabelle1!C6","v":""},{"$f":"[2]Tabelle1!D6","v":""},{"$f":"[2]Tabelle1!E6","v":""}]
[{"$f":"IF([1]Zentrale!A7=0,\"\",[1]Zentrale!A7)","v":""},{"$f":"IF([1]Zentrale!B7=0,\"\",[1]Zentrale!B7)","v":""},{"$f":"IF([1]Zentrale!C7=0,\"\",[1]Zentrale!C7)","v":""},null,{"$f":"[2]Tabelle1!A7","v":""},{"$f":"[2]Tabelle1!B7","v":""},{"$f":"[2]Tabelle1!C7","v":""},{"$f":"[2]Tabelle1!D7","v":""},{"$f":"[2]Tabelle1!E7","v":""}]
[{"$f":"IF([1]Zentrale!A8=0,\"\",[1]Zentrale!A8)","v":""},{"$f":"IF([1]Zentrale!B8=0,\"\",[1]Zentrale!B8)","v":""},{"$f":"IF([1]Zentrale!C8=0,\"\",[1]Zentrale!C8)","v":""},null,{"$f":"[2]Tabelle1!A8","v":""},{"$f":"[2]Tabelle1!B8","v":""},{"$f":"[2]Tabelle1!C8","v":""},{"$f":"[2]Tabelle1!D8","v":""},{"$f":"[2]Tabelle1!E8","v":""}]
[{"$f":"IF([1]Zentrale!A9=0,\"\",[1]Zentrale!A9)","v":""},{"$f":"IF([1]Zentrale!B9=0,\"\",[1]Zentrale!B9)","v":""},{"$f":"IF([1]Zentrale!C9=0,\"\",[1]Zentrale!C9)","v":""},null,{"$f":"[2]Tabelle1!A9","v":""},{"$f":"[2]Tabelle1!B9","v":""},{"$f":"[2]Tabelle1!C9","v":""},{"$f":"[2]Tabelle1!D9","v":""},{"$f":"[2]Tabelle1!E9","v":""}]
[{"$f":"IF([1]Zentrale!A10=0,\"\",[1]Zentrale!A10)","v":""},{"$f":"IF([1]Zentrale!B10=0,\"\",[1]Zentrale!B10)","v":""},{"$f":"IF([1]Zentrale!C10=0,\"\",[1]Zentrale!C10)","v":""},null,{"$f":"[2]Tabelle1!A10","v":""},{"$f":"[2]Tabelle1!B10","v":""},{"$f":"[2]Tabelle1!C10","v":""},{"$f":"[2]Tabelle1!D10","v":""},{"$f":"[2]Tabelle1!E10","v":""}]
[{"$f":"IF([1]Zentrale!A11=0,\"\",[1]Zentrale!A11)","v":""},{"$f":"IF([1]Zentrale!B11=0,\"\",[1]Zentrale!B11)","v":""},{"$f":"IF([1]Zentrale!C11=0,\"\",[1]Zentrale!C11)","v":""},null,{"$f":"[2]Tabelle1!A11","v":""},{"$f":"[2]Tabelle1!B11","v":""},{"$f":"[2]Tabelle1!C11","v":""},{"$f":"[2]Tabelle1!D11","v":""},{"$f":"[2]Tabelle1!E11","v":""}]
[{"$f":"IF([1]Zentrale!A12=0,\"\",[1]Zentrale!A12)","v":""},{"$f":"IF([1]Zentrale!B12=0,\"\",[1]Zentrale!B12)","v":""},{"$f":"IF([1]Zentrale!C12=0,\"\",[1]Zentrale!C12)","v":""},null,{"$f":"[2]Tabelle1!A12","v":""},{"$f":"[2]Tabelle1!B12","v":""},{"$f":"[2]Tabelle1!C12","v":""},{"$f":"[2]Tabelle1!D12","v":""},{"$f":"[2]Tabelle1!E12","v":""}]
[{"$f":"IF([1]Zentrale!A13=0,\"\",[1]Zentrale!A13)","v":""},{"$f":"IF([1]Zentrale!B13=0,\"\",[1]Zentrale!B13)","v":""},{"$f":"IF([1]Zentrale!C13=0,\"\",[1]Zentrale!C13)","v":""},null,{"$f":"[2]Tabelle1!A13","v":""},{"$f":"[2]Tabelle1!B13","v":""},{"$f":"[2]Tabelle1!C13","v":""},{"$f":"[2]Tabelle1!D13","v":""},{"$f":"[2]Tabelle1!E13","v":""}]
[{"$f":"IF([1]Zentrale!A14=0,\"\",[1]Zentrale!A14)","v":""},{"$f":"IF([1]Zentrale!B14=0,\"\",[1]Zentrale!B14)","v":""},{"$f":"IF([1]Zentrale!C14=0,\"\",[1]Zentrale!C14)","v":""},null,{"$f":"[2]Tabelle1!A14","v":""},{"$f":"[2]Tabelle1!B14","v":""},{"$f":"[2]Tabelle1!C14","v":""},{"$f":"[2]Tabelle1!D14","v":""},{"$f":"[2]Tabelle1!E14","v":""}]
[{"$f":"IF([1]Zentrale!A15=0,\"\",[1]Zentrale!A15)","v":""},{"$f":"IF([1]Zentrale!B15=0,\"\",[1]Zentrale!B15)","v":""},{"$f":"IF([1]Zentrale!C15=0,\"\",[1]Zentrale!C15)","v":""},null,{"$f":"[2]Tabelle1!A15","v":""},{"$f":"[2]Tabelle1!B15","v":""},{"$f":"[2]Tabelle1!C15","v":""},{"$f":"[2]Tabelle1!D15","v":""},{"$f":"[2]Tabelle1!E15","v":""}]
[{"$f":"IF([1]Zentrale!A16=0,\"\",[1]Zentrale!A16)","v":""},{"$f":"IF([1]Zentrale!B16=0,\"\",[1]Zentrale!B16)","v":""},{"$f":"IF([1]Zentrale!C16=0,\"\",[1]Zentrale!C16)","v":""},null,{"$f":"[2]Tabelle1!A16","v":""},{"$f":"[2]Tabelle1!B16","v":""},{"$f":"[2]Tabelle1!C16","v":""},{"$f":"[2]Tabelle1!D16","v":""},{"$f":"[2]Tabelle1!E16","v":""}]
[{"$f":"IF([1]Zentrale!A17=0,\"\",[1]Zentrale!A17)","v":""},{"$f":"IF([1]Zentrale!B17=0,\"\",[1]Zentrale!B17)","v":""},{"$f":"IF([1]Zentrale!C17=0,\"\",[1]Zentrale!C17)","v":""},null,{"$f":"[2]Tabelle1!A17","v":""},{"$f":"[2]Tabelle1!B17","v":""},{"$f":"[2]Tabelle1!C17","v":""},{"$f":"[2]Tabelle1!D17","v":""},{"$f":"[2]Tabelle1!E17","v":""}]
[{"$f":"IF([1]Zentrale!A18=0,\"\",[1]Zentrale!A18)","v":""},{"$f":"IF([1]Zentrale!B18=0,\"\",[1]Zentrale!B18)","v":""},{"$f":"IF([1]Zentrale!C18=0,\"\",[1]Zentrale!C18)","v":""},null,{"$f":"[2]Tabelle1!A18","v":""},{"$f":"[2]Tabelle1!B18","v":""},{"$f":"[2]Tabelle1!C18","v":""},{"$f":"[2]Tabelle1!D18","v":""},{"$f":"[2]Tabelle1!E18","v":""}]
[{"$f":"IF([1]Zentrale!A19=0,\"\",[1]Zentrale!A19)","v":""},{"$f":"IF([1]Zentrale!B19=0,\"\",[1]Zentrale!B19)","v":""},{"$f":"IF([1]Zentrale!C19=0,\"\",[1]Zentrale!C19)","v":""},null,{"$f":"[2]Tabelle1!A19","v":""},{"$f":"[2]Tabelle1!B19","v":""},{"$f":"[2]Tabelle1!C19","v":""},{"$f":"[2]Tabelle1!D19","v":""},{"$f":"[2]Tabelle1!E19","v":""}]
[{"$f":"IF([1]Zentrale!A20=0,\"\",[1]Zentrale!A20)","v":""},{"$f":"IF([1]Zentrale!B20=0,\"\",[1]Zentrale!B20)","v":""},{"$f":"IF([1]Zentrale!C20=0,\"\",[1]Zentrale!C20)","v":""},null,{"$f":"[2]Tabelle1!A20","v":""},{"$f":"[2]Tabelle1!B20","v":""},{"$f":"[2]Tabelle1!C20","v":""},{"$f":"[2]Tabelle1!D20","v":""},{"$f":"[2]Tabelle1!E20","v":""}]
[{"$f":"IF([1]Zentrale!A21=0,\"\",[1]Zentrale!A21)","v":""},{"$f":"IF([1]Zentrale!B21=0,\"\",[1]Zentrale!B21)","v":""},{"$f":"IF([1]Zentrale!C21=0,\"\",[1]Zentrale!C21)","v":""},null,{"$f":"[2]Tabelle1!A21","v":""},{"$f":"[2]Tabelle1!B21","v":""},{"$f":"[2]Tabelle1!C21","v":""},{"$f":"[2]Tabelle1!D21","v":""},{"$f":"[2]Tabelle1!E21","v":""}]
[{"$f":"IF([1]Zentrale!A22=0,\"\",[1]Zentrale!A22)","v":""},{"$f":"IF([1]Zentrale!B22=0,\"\",[1]Zentrale!B22)","v":""},{"$f":"IF([1]Zentrale!C22=0,\"\",[1]Zentrale!C22)","v":""},null,{"$f":"[2]Tabelle1!A22","v":""},{"$f":"[2]Tabelle1!B22","v":""},{"$f":"[2]Tabelle1!C22","v":""},{"$f":"[2]Tabelle1!D22","v":""},{"$f":"[2]Tabelle1!E22","v":""}]
[{"$f":"IF([1]Zentrale!A23=0,\"\",[1]Zentrale!A23)","v":""},{"$f":"IF([1]Zentrale!B23=0,\"\",[1]Zentrale!B23)","v":""},{"$f":"IF([1]Zentrale!C23=0,\"\",[1]Zentrale!C23)","v":""},null,{"$f":"[2]Tabelle1!A23","v":""},{"$f":"[2]Tabelle1!B23","v":""},{"$f":"[2]Tabelle1!C23","v":""},{"$f":"[2]Tabelle1!D23","v":""},{"$f":"[2]Tabelle1!E23","v":""}]
[{"$f":"IF([1]Zentrale!A24=0,\"\",[1]Zentrale!A24)","v":""},{"$f":"IF([1]Zentrale!B24=0,\"\",[1]Zentrale!B24)","v":""},{"$f":"IF([1]Zentrale!C24=0,\"\",[1]Zentrale!C24)","v":""},null,{"$f":"[2]Tabelle1!A24","v":""},{"$f":"[2]Tabelle1!B24","v":""},{"$f":"[2]Tabelle1!C24","v":""},{"$f":"[2]Tabelle1!D24","v":""},{"$f":"[2]Tabelle1!E24","v":""}]
[{"$f":"IF([1]Zentrale!A25=0,\"\",[1]Zentrale!A25)","v":""},{"$f":"IF([1]Zentrale!B25=0,\"\",[1]Zentrale!B25)","v":""},{"$f":"IF([1]Zentrale!C25=0,\"\",[1]Zentrale!C25)","v":""},null,{"$f":"[2]Tabelle1!A25","v":""},{"$f":"[2]Tabelle1!B25","v":""},{"$f":"[2]Tabelle1!C25","v":""},{"$f":"[2]Tabelle1!D25","v":""},{"$f":"[2]Tabelle1!E25","v":""}]
[{"$f":"IF([1]Zentrale!A26=0,\"\",[1]Zentrale!A26)","v":""},{"$f":"IF([1]Zentrale!B26=0,\"\",[1]Zentrale!B26)","v":""},{"$f":"IF([1]Zentrale!C26=0,\"\",[1]Zentrale!C26)","v":""},null,{"$f":"[2]Tabelle1!A26","v":""},{"$f":"[2]Tabelle1!B26","v":""},{"$f":"[2]Tabelle1!C26","v":""},{"$f":"[2]Tabelle1!D26","v":""},{"$f":"[2]Tabelle1!E26","v":""}]
[{"$f":"IF([1]Zentrale!A27=0,\"\",[1]Zentrale!A27)","v":""},{"$f":"IF([1]Zentrale!B27=0,\"\",[1]Zentrale!B27)","v":""},{"$f":"IF([1]Zentrale!C27=0,\"\",[1]Zentrale!C27)","v":""},null,{"$f":"[2]Tabelle1!A27","v":""},{"$f":"[2]Tabelle1!B27","v":""},{"$f":"[2]Tabelle1!C27","v":""},{"$f":"[2]Tabelle1!D27","v":""},{"$f":"[2]Tabelle1!E27","v":""}]
[{"$f":"IF([1]Zentrale!A28=0,\"\",[1]Zentrale!A28)","v":""},{"$f":"IF([1]Zentrale!B28=0,\"\",[1]Zentrale!B28)","v":""},{"$f":"IF([1]Zentrale!C28=0,\"\",[1]Zentrale!C28)","v":""},null,{"$f":"[2]Tabelle1!A28","v":""},{"$f":"[2]Tabelle1!B28","v":""},{"$f":"[2]Tabelle1!C28","v":""},{"$f":"[2]Tabelle1!D28","v":""},{"$f":"[2]Tabelle1!E28","v":""}]
[{"$f":"IF([1]Zentrale!A29=0,\"\",[1]Zentrale!A29)","v":""},{"$f":"IF([1]Zentrale!B29=0,\"\",[1]Zentrale!B29)","v":""},{"$f":"IF([1]Zentrale!C29=0,\"\",[1]Zentrale!C29)","v":""},null,{"$f":"[2]Tabelle1!A29","v":""},{"$f":"[2]Tabelle1!B29","v":""},{"$f":"[2]Tabelle1!C29","v":""},{"$f":"[2]Tabelle1!D29","v":""},{"$f":"[2]Tabelle1!E29","v":""}]
[{"$f":"IF([1]Zentrale!A30=0,\"\",[1]Zentrale!A30)","v":""},{"$f":"IF([1]Zentrale!B30=0,\"\",[1]Zentrale!B30)","v":""},{"$f":"IF([1]Zentrale!C30=0,\"\",[1]Zentrale!C30)","v":""},null,{"$f":"[2]Tabelle1!A30","v":""},{"$f":"[2]Tabelle1!B30","v":""},{"$f":"[2]Tabelle1!C30","v":""},{"$f":"[2]Tabelle1!D30","v":""},{"$f":"[2]Tabelle1!E30","v":""}]
[{"$f":"IF([1]Zentrale!A31=0,\"\",[1]Zentrale!A31)","v":""},{"$f":"IF([1]Zentrale!B31=0,\"\",[1]Zentrale!B31)","v":""},{"$f":"IF([1]Zentrale!C31=0,\"\",[1]Zentrale!C31)","v":""},null,{"$f":"[2]Tabelle1!A31","v":""},{"$f":"[2]Tabelle1!B31","v":""},{"$f":"[2]Tabelle1!C31","v":""},{"$f":"[2]Tabelle1!D31","v":""},{"$f":"[2]Tabelle1!E31","v":""}]
[{"$f":"IF([1]Zentrale!A32=0,\"\",[1]Zentrale!A32)","v":""},{"$f":"IF([1]Zentrale!B32=0,\"\",[1]Zentrale!B32)","v":""},{"$f":"IF([1]Zentrale!C32=0,\"\",[1]Zentrale!C32)","v":""},null,{"$f":"[2]Tabelle1!A32","v":""},{"$f":"[2]Tabelle1!B32","v":""},{"$f":"[2]Tabelle1!C32","v":""},{"$f":"[2]Tabelle1!D32","v":""},{"$f":"[2]Tabelle1!E32","v":""}]
[{"$f":"IF([1]Zentrale!A33=0,\"\",[1]Zentrale!A33)","v":""},{"$f":"IF([1]Zentrale!B33=0,\"\",[1]Zentrale!B33)","v":""},{"$f":"IF([1]Zentrale!C33=0,\"\",[1]Zentrale!C33)","v":""},null,{"$f":"[2]Tabelle1!A33","v":""},{"$f":"[2]Tabelle1!B33","v":""},{"$f":"[2]Tabelle1!C33","v":""},{"$f":"[2]Tabelle1!D33","v":""},{"$f":"[2]Tabelle1!E33","v":""}]
[{"$f":"IF([1]Zentrale!A34=0,\"\",[1]Zentrale!A34)","v":""},{"$f":"IF([1]Zentrale!B34=0,\"\",[1]Zentrale!B34)","v":""},{"$f":"IF([1]Zentrale!C34=0,\"\",[1]Zentrale!C34)","v":""},null,{"$f":"[2]Tabelle1!A34","v":""},{"$f":"[2]Tabelle1!B34","v":""},{"$f":"[2]Tabelle1!C34","v":""},{"$f":"[2]Tabelle1!D34","v":""},{"$f":"[2]Tabelle1!E34","v":""}]
[{"$f":"IF([1]Zentrale!A35=0,\"\",[1]Zentrale!A35)","v":""},{"$f":"IF([1]Zentrale!B35=0,\"\",[1]Zentrale!B35)","v":""},{"$f":"IF([1]Zentrale!C35=0,\"\",[1]Zentrale!C35)","v":""},null,{"$f":"[2]Tabelle1!A35","v":""},{"$f":"[2]Tabelle1!B35","v":""},{"$f":"[2]Tabelle1!C35","v":""},{"$f":"[2]Tabelle1!D35","v":""},{"$f":"[2]Tabelle1!E35","v":""}]
[{"$f":"IF([1]Zentrale!A36=0,\"\",[1]Zentrale!A36)","v":""},{"$f":"IF([1]Zentrale!B36=0,\"\",[1]Zentrale!B36)","v":""},{"$f":"IF([1]Zentrale!C36=0,\"\",[1]Zentrale!C36)","v":""},null,{"$f":"[2]Tabelle1!A36","v":""},{"$f":"[2]Tabelle1!B36","v":""},{"$f":"[2]Tabelle1!C36","v":""},{"$f":"[2]Tabelle1!D36","v":""},{"$f":"[2]Tabelle1!E36","v":""}]
[{"$f":"IF([1]Zentrale!A37=0,\"\",[1]Zentrale!A37)","v":""},{"$f":"IF([1]Zentrale!B37=0,\"\",[1]Zentrale!B37)","v":""},{"$f":"IF([1]Zentrale!C37=0,\"\",[1]Zentrale!C37)","v":""},null,{"$f":"[2]Tabelle1!A37","v":""},{"$f":"[2]Tabelle1!B37","v":""},{"$f":"[2]Tabelle1!C37","v":""},{"$f":"[2]Tabelle1!D37","v":""},{"$f":"[2]Tabelle1!E37","v":""}]
[{"$f":"IF([1]Zentrale!A38=0,\"\",[1]Zentrale!A38)","v":""},{"$f":"IF([1]Zentrale!B38=0,\"\",[1]Zentrale!B38)","v":""},{"$f":"IF([1]Zentrale!C38=0,\"\",[1]Zentrale!C38)","v":""},null,{"$f":"[2]Tabelle1!A38","v":""},{"$f":"[2]Tabelle1!B38","v":""},{"$f":"[2]Tabelle1!C38","v":""},{"$f":"[2]Tabelle1!D38","v":""},{"$f":"[2]Tabelle1!E38","v":""}]

{"sheet":"Formatvorlage_fuer Makro","index":2,"n_rows":49,"n_cols":28,"rows_kept":49,"cut":false,"hidden":false,"merged":[[36,1,44,1],[36,2,37,2],[38,2,44,2],[12,2,19,2],[4,1,33,1],[4,2,11,2],[20,2,33,2],[34,1,35,1]]}
[{"$f":"MAX(A2:A1001)","v":null},null,"ST",{"$f":"MAX(E1:AB1)","v":null},1,{"$f":"IF(ISTEXT(F13),E1+1,\"Platzhalter\")","v":""},{"$f":"IF(ISTEXT(G13),F1+1,\"Platzhalter\")","v":""},{"$f":"IF(ISTEXT(H13),G1+1,\"Platzhalter\")","v":""},{"$f":"IF(ISTEXT(I13),H1+1,\"Platzhalter\")","v":""},{"$f":"IF(ISTEXT(J13),I1+1,\"Platzhalter\")","v":""},{"$f":"IF(ISTEXT(K13),J1+1,\"Platzhalter\")","v":""},{"$f":"IF(ISTEXT(L13),K1+1,\"Platzhalter\")","v":""},{"$f":"IF(ISTEXT(M13),L1+1,\"Platzhalter\")","v":""},{"$f":"IF(ISTEXT(N13),M1+1,\"Platzhalter\")","v":""},{"$f":"IF(ISTEXT(O13),N1+1,\"Platzhalter\")","v":""},{"$f":"IF(ISTEXT(P13),O1+1,\"Platzhalter\")","v":""},{"$f":"IF(ISTEXT(Q13),P1+1,\"Platzhalter\")","v":""},{"$f":"IF(ISTEXT(R13),Q1+1,\"Platzhalter\")","v":""},{"$f":"IF(ISTEXT(S13),R1+1,\"Platzhalter\")","v":""},{"$f":"IF(ISTEXT(T13),S1+1,\"Platzhalter\")","v":""},{"$f":"IF(ISTEXT(U13),T1+1,\"Platzhalter\")","v":""},{"$f":"IF(ISTEXT(V13),U1+1,\"Platzhalter\")","v":""},{"$f":"IF(ISTEXT(W13),V1+1,\"Platzhalter\")","v":""},{"$f":"IF(ISTEXT(X13),W1+1,\"Platzhalter\")","v":""},{"$f":"IF(ISTEXT(Y13),X1+1,\"Platzhalter\")","v":""},{"$f":"IF(ISTEXT(Z13),Y1+1,\"Platzhalter\")","v":""},{"$f":"IF(ISTEXT(AA13),Z1+1,\"Platzhalter\")","v":""},{"$f":"IF(ISTEXT(AB13),AA1+1,\"Platzhalter\")","v":""}]
[1]
[{"$f":"IF(ISTEXT(C3),A2+1,\"Platzhalter\")","v":""}]
[{"$f":"IF(ISTEXT(C4),A3+1,\"Platzhalter\")","v":""}]
[{"$f":"IF(ISTEXT(C5),A4+1,\"Platzhalter\")","v":""}]
[{"$f":"IF(ISTEXT(C6),A5+1,\"Platzhalter\")","v":""}]
[{"$f":"IF(ISTEXT(C7),A6+1,\"Platzhalter\")","v":""}]
[{"$f":"IF(ISTEXT(C8),A7+1,\"Platzhalter\")","v":""}]
[{"$f":"IF(ISTEXT(C9),A8+1,\"Platzhalter\")","v":""}]
[{"$f":"IF(ISTEXT(C10),A9+1,\"Platzhalter\")","v":""}]
[{"$f":"IF(ISTEXT(C11),A10+1,\"Platzhalter\")","v":""}]
[{"$f":"IF(ISTEXT(C12),A11+1,\"Platzhalter\")","v":""}]
[{"$f":"IF(ISTEXT(C13),A12+1,\"Platzhalter\")","v":""}]
[{"$f":"IF(ISTEXT(C14),A13+1,\"Platzhalter\")","v":""}]
[{"$f":"IF(ISTEXT(C15),A14+1,\"Platzhalter\")","v":""}]
[{"$f":"IF(ISTEXT(C16),A15+1,\"Platzhalter\")","v":""}]
[{"$f":"IF(ISTEXT(C17),A16+1,\"Platzhalter\")","v":""}]
[{"$f":"IF(ISTEXT(C18),A17+1,\"Platzhalter\")","v":""}]
[{"$f":"IF(ISTEXT(C19),A18+1,\"Platzhalter\")","v":""}]
[{"$f":"IF(ISTEXT(C20),A19+1,\"Platzhalter\")","v":""}]
[{"$f":"IF(ISTEXT(C21),A20+1,\"Platzhalter\")","v":""}]
[{"$f":"IF(ISTEXT(C22),A21+1,\"Platzhalter\")","v":""}]
[{"$f":"IF(ISTEXT(C23),A22+1,\"Platzhalter\")","v":""}]
[{"$f":"IF(ISTEXT(C24),A23+1,\"Platzhalter\")","v":""}]
[{"$f":"IF(ISTEXT(C25),A24+1,\"Platzhalter\")","v":""}]
[{"$f":"IF(ISTEXT(C26),A25+1,\"Platzhalter\")","v":""}]
[{"$f":"IF(ISTEXT(C27),A26+1,\"Platzhalter\")","v":""}]
[{"$f":"IF(ISTEXT(C28),A27+1,\"Platzhalter\")","v":""}]
[{"$f":"IF(ISTEXT(C29),A28+1,\"Platzhalter\")","v":""}]
[{"$f":"IF(ISTEXT(C30),A29+1,\"Platzhalter\")","v":""}]
[{"$f":"IF(ISTEXT(C31),A30+1,\"Platzhalter\")","v":""}]
[{"$f":"IF(ISTEXT(C32),A31+1,\"Platzhalter\")","v":""}]
[{"$f":"IF(ISTEXT(C33),A32+1,\"Platzhalter\")","v":""}]
[{"$f":"IF(ISTEXT(C34),A33+1,\"Platzhalter\")","v":""}]
[{"$f":"IF(ISTEXT(C35),A34+1,\"Platzhalter\")","v":""}]
[{"$f":"IF(ISTEXT(C36),A35+1,\"Platzhalter\")","v":""}]
[{"$f":"IF(ISTEXT(C37),A36+1,\"Platzhalter\")","v":""}]
[{"$f":"IF(ISTEXT(C38),A37+1,\"Platzhalter\")","v":""}]
[{"$f":"IF(ISTEXT(C39),A38+1,\"Platzhalter\")","v":""}]
[{"$f":"IF(ISTEXT(C40),A39+1,\"Platzhalter\")","v":""}]
[{"$f":"IF(ISTEXT(C41),A40+1,\"Platzhalter\")","v":""}]
[{"$f":"IF(ISTEXT(C42),A41+1,\"Platzhalter\")","v":""}]
[{"$f":"IF(ISTEXT(C43),A42+1,\"Platzhalter\")","v":""}]
[{"$f":"IF(ISTEXT(C44),A43+1,\"Platzhalter\")","v":""}]
[{"$f":"IF(ISTEXT(C45),A44+1,\"Platzhalter\")","v":""}]
[{"$f":"IF(ISTEXT(C46),A45+1,\"Platzhalter\")","v":""}]
[{"$f":"IF(ISTEXT(C47),A46+1,\"Platzhalter\")","v":""}]
[{"$f":"IF(ISTEXT(C48),A47+1,\"Platzhalter\")","v":""}]
[{"$f":"IF(ISTEXT(C49),A48+1,\"Platzhalter\")","v":""}]

{"sheet":"Rechnung","index":3,"n_rows":107,"n_cols":26,"rows_kept":107,"cut":false,"hidden":false,"merged":[]}
[]
[]
[]
[]
[]
[]
[]
[]
[]
[]
[]
[]
[]
[]
[]
[]
[]
[]
[]
[]
[]
[]
[]
[]
[]
[]
[]
[]
[]
[]
[]
[]
[]
[]
[]
[]
[]
[]
[]
[]
[]
[]
[]
[]
[]
[]
[]
[]
[]
[]
[]
[]
[]
[]
[]
[]
[]
[]
[]
[]
[]
[]
[]
[]
[]
[]
[]
[]
[]
[]
[]
[]
[]
[]
[]
[]
[]
[]
[]
[]
[]
[]
[]
[]
[]
[]
[]
[]
[]
[]
[]
[]
[]
[]
[]
[]
[]
[]
[]
[null,null,null,null,null,null,1,2,3,4,5,6,7,8,9,10,11,12,13,14,15,16,17,18,19,20]
[null,null,null,null,null,null,"Su","Su","ActuatorT","ActuatorT","Di","Di","Ultimate strength @ TT","Ultimate strength @ TT","Di","Di","Di","Di","Ultimate strength @ TT","Ultimate strength @ TT","sminD","sminD","Su","Su","Su","Su"]
[null,null,null,null,null,null,"Su","Su","Su","Su","Su","Su","Di","Di","Su","Su","Di","Di","Di","Di","Di","Di","Di","Di","Di","Di"]
[null,null,null,null,null,null,10,10,16,16,24,24,45,45,58,58,70,70,90,90,120,120,160,160,240,240]
[null,null,null,null,null,null,0,0,0,0,0,0,0,0,0,0,0,0,0,0,0,0,0,0,0,0]
[null,null,null,null,null,null,0,0,0,0,0,0,0,0,0,0,0,0,0,0,0,0,0,0,0,0]
[null,null,null,null,null,null,0,0,0,0,0,0,0,0,0,0,0,0,0,0,0,0,0,0,0,0]
[null,null,null,null,null,null,45,45,45,45,45,45,50,50,45,45,50,50,50,50,50,50,50,50,50,50]